BEGIN:VCALENDAR
VERSION:2.0
PRODID:-//Deva Bela · Masajes Tantra · Madrid - ECPv6.15.20//NONSGML v1.0//EN
CALSCALE:GREGORIAN
METHOD:PUBLISH
X-ORIGINAL-URL:https://www.tantrawildspirit.com
X-WR-CALDESC:Eventos para Deva Bela · Masajes Tantra · Madrid
REFRESH-INTERVAL;VALUE=DURATION:PT1H
X-Robots-Tag:noindex
X-PUBLISHED-TTL:PT1H
BEGIN:VTIMEZONE
TZID:Europe/Madrid
BEGIN:DAYLIGHT
TZOFFSETFROM:+0100
TZOFFSETTO:+0200
TZNAME:CEST
DTSTART:20210328T010000
END:DAYLIGHT
BEGIN:STANDARD
TZOFFSETFROM:+0200
TZOFFSETTO:+0100
TZNAME:CET
DTSTART:20211031T010000
END:STANDARD
BEGIN:DAYLIGHT
TZOFFSETFROM:+0100
TZOFFSETTO:+0200
TZNAME:CEST
DTSTART:20220327T010000
END:DAYLIGHT
BEGIN:STANDARD
TZOFFSETFROM:+0200
TZOFFSETTO:+0100
TZNAME:CET
DTSTART:20221030T010000
END:STANDARD
BEGIN:DAYLIGHT
TZOFFSETFROM:+0100
TZOFFSETTO:+0200
TZNAME:CEST
DTSTART:20230326T010000
END:DAYLIGHT
BEGIN:STANDARD
TZOFFSETFROM:+0200
TZOFFSETTO:+0100
TZNAME:CET
DTSTART:20231029T010000
END:STANDARD
BEGIN:DAYLIGHT
TZOFFSETFROM:+0100
TZOFFSETTO:+0200
TZNAME:CEST
DTSTART:20240331T010000
END:DAYLIGHT
BEGIN:STANDARD
TZOFFSETFROM:+0200
TZOFFSETTO:+0100
TZNAME:CET
DTSTART:20241027T010000
END:STANDARD
END:VTIMEZONE
BEGIN:VEVENT
DTSTART;VALUE=DATE:20230505
DTEND;VALUE=DATE:20230508
DTSTAMP:20260423T224532
CREATED:20230507T100850Z
LAST-MODIFIED:20230905T102645Z
UID:10000043-1683244800-1683503999@www.tantrawildspirit.com
SUMMARY:Madrid
DESCRIPTION:
URL:https://www.tantrawildspirit.com/evento/madrid-10/
LOCATION:Madrid\, Madrid\, España
ATTACH;FMTTYPE=image/jpeg:https://www.tantrawildspirit.com/wp-content/uploads/2023/05/Madrid-·-Eventos-·-Deva-Bela-·-Maestra-Tantrica.jpg
END:VEVENT
BEGIN:VEVENT
DTSTART;VALUE=DATE:20230502
DTEND;VALUE=DATE:20230505
DTSTAMP:20260423T224532
CREATED:20230502T115350Z
LAST-MODIFIED:20230905T102646Z
UID:10000042-1682985600-1683244799@www.tantrawildspirit.com
SUMMARY:Bologna
DESCRIPTION:
URL:https://www.tantrawildspirit.com/evento/bologna-4/
LOCATION:Bolonia\, Bolonia\, Italia
ATTACH;FMTTYPE=image/jpeg:https://www.tantrawildspirit.com/wp-content/uploads/2023/05/Bologna-·-Eventos-·-Deva-Bela-·-Maestra-Tantrica.jpg
END:VEVENT
BEGIN:VEVENT
DTSTART;VALUE=DATE:20230427
DTEND;VALUE=DATE:20230501
DTSTAMP:20260423T224532
CREATED:20230422T104017Z
LAST-MODIFIED:20230905T102646Z
UID:10000040-1682553600-1682899199@www.tantrawildspirit.com
SUMMARY:Grosseto
DESCRIPTION:
URL:https://www.tantrawildspirit.com/evento/grosseto-2/
LOCATION:Grosseto\, Grosseto\, Italia
ATTACH;FMTTYPE=image/jpeg:https://www.tantrawildspirit.com/wp-content/uploads/2023/04/Grosseto-·-Eventos-·-Deva-Bela-·-Maestra-Tantrica.jpg
END:VEVENT
BEGIN:VEVENT
DTSTART;VALUE=DATE:20230422
DTEND;VALUE=DATE:20230427
DTSTAMP:20260423T224532
CREATED:20230422T054054Z
LAST-MODIFIED:20230905T102647Z
UID:10000039-1682121600-1682553599@www.tantrawildspirit.com
SUMMARY:Riccione
DESCRIPTION:
URL:https://www.tantrawildspirit.com/evento/riccione-3/
LOCATION:Riccione\, Riccione\, Italia
ATTACH;FMTTYPE=image/jpeg:https://www.tantrawildspirit.com/wp-content/uploads/2023/04/Riccione-·-Eventos-·-Deva-Bela-·-Maestra-Tantrica.jpg
END:VEVENT
BEGIN:VEVENT
DTSTART;VALUE=DATE:20230417
DTEND;VALUE=DATE:20230422
DTSTAMP:20260423T224532
CREATED:20230413T110041Z
LAST-MODIFIED:20230905T102647Z
UID:10000038-1681689600-1682121599@www.tantrawildspirit.com
SUMMARY:Alghero
DESCRIPTION:
URL:https://www.tantrawildspirit.com/evento/alghero-2/
LOCATION:Alghero\, Alghero\, Italia
ATTACH;FMTTYPE=image/jpeg:https://www.tantrawildspirit.com/wp-content/uploads/2023/04/Alghero-·-Eventos-·-Deva-Bela-·-Maestra-Tantrica.jpg
END:VEVENT
BEGIN:VEVENT
DTSTART;VALUE=DATE:20230414
DTEND;VALUE=DATE:20230417
DTSTAMP:20260423T224532
CREATED:20230413T105838Z
LAST-MODIFIED:20230905T102648Z
UID:10000037-1681430400-1681689599@www.tantrawildspirit.com
SUMMARY:Madrid
DESCRIPTION:
URL:https://www.tantrawildspirit.com/evento/madrid-9/
LOCATION:Madrid\, Madrid\, España
ATTACH;FMTTYPE=image/jpeg:https://www.tantrawildspirit.com/wp-content/uploads/2023/04/Madrid-·-Eventos-·-Deva-Bela-·-Maestra-Tantrica.jpg
END:VEVENT
BEGIN:VEVENT
DTSTART;VALUE=DATE:20230402
DTEND;VALUE=DATE:20230415
DTSTAMP:20260423T224532
CREATED:20230317T114743Z
LAST-MODIFIED:20230905T102648Z
UID:10000034-1680393600-1681516799@www.tantrawildspirit.com
SUMMARY:Cagliari
DESCRIPTION:
URL:https://www.tantrawildspirit.com/evento/cagliari-3/
LOCATION:Cagliari\, Cagliari\, Cerdeña\, Italia
ATTACH;FMTTYPE=image/jpeg:https://www.tantrawildspirit.com/wp-content/uploads/2023/03/Cagliari-·-Eventos-·-Deva-Bela-·-Maestra-Tantrica.jpg
END:VEVENT
BEGIN:VEVENT
DTSTART;VALUE=DATE:20230326
DTEND;VALUE=DATE:20230328
DTSTAMP:20260423T224532
CREATED:20230327T063513Z
LAST-MODIFIED:20230327T063513Z
UID:10000036-1679788800-1679961599@www.tantrawildspirit.com
SUMMARY:Madrid
DESCRIPTION:
URL:https://www.tantrawildspirit.com/evento/madrid-8/
LOCATION:Madrid\, Madrid\, España
ATTACH;FMTTYPE=image/jpeg:https://www.tantrawildspirit.com/wp-content/uploads/2023/03/Madrid-·-Eventos-·-Deva-Bela-·-Maestra-Tantrica.jpg
END:VEVENT
BEGIN:VEVENT
DTSTART;VALUE=DATE:20230320
DTEND;VALUE=DATE:20230331
DTSTAMP:20260423T224532
CREATED:20230309T192244Z
LAST-MODIFIED:20240613T100524Z
UID:10000032-1679270400-1680220799@www.tantrawildspirit.com
SUMMARY:Palermo
DESCRIPTION:
URL:https://www.tantrawildspirit.com/evento/palermo-3/
LOCATION:Palermo\, Palermo\, Italia
ATTACH;FMTTYPE=image/jpeg:https://www.tantrawildspirit.com/wp-content/uploads/2023/03/Palermo-·-Eventos-·-Deva-Bela-·-Maestra-Tantrica.jpg
END:VEVENT
BEGIN:VEVENT
DTSTART;VALUE=DATE:20230318
DTEND;VALUE=DATE:20230320
DTSTAMP:20260423T224532
CREATED:20230317T115120Z
LAST-MODIFIED:20230317T115120Z
UID:10000035-1679097600-1679270399@www.tantrawildspirit.com
SUMMARY:Roma
DESCRIPTION:
URL:https://www.tantrawildspirit.com/evento/roma/
LOCATION:Roma\, Roma\, Lacio\, Italia
ATTACH;FMTTYPE=image/jpeg:https://www.tantrawildspirit.com/wp-content/uploads/2023/03/Roma-·-Eventos-·-Deva-Bela-·-Maestra-Tantrica.jpg
END:VEVENT
BEGIN:VEVENT
DTSTART;VALUE=DATE:20230311
DTEND;VALUE=DATE:20230318
DTSTAMP:20260423T224532
CREATED:20230308T205140Z
LAST-MODIFIED:20230308T205309Z
UID:10000031-1678492800-1679097599@www.tantrawildspirit.com
SUMMARY:Catania
DESCRIPTION:
URL:https://www.tantrawildspirit.com/evento/catania-2/
LOCATION:Catania\, Catania\, Italy
ATTACH;FMTTYPE=image/png:https://www.tantrawildspirit.com/wp-content/uploads/2023/03/Catania-·-Eventos-·-Deva-Bela-·-Maestra-Tantrica.png
END:VEVENT
BEGIN:VEVENT
DTSTART;VALUE=DATE:20230302
DTEND;VALUE=DATE:20230311
DTSTAMP:20260423T224532
CREATED:20230125T172702Z
LAST-MODIFIED:20230308T205355Z
UID:10000028-1677715200-1678492799@www.tantrawildspirit.com
SUMMARY:Madrid
DESCRIPTION:
URL:https://www.tantrawildspirit.com/evento/madrid-6/
LOCATION:Madrid\, Madrid\, España
ATTACH;FMTTYPE=image/png:https://www.tantrawildspirit.com/wp-content/uploads/2023/03/Madrid-·-Eventos-·-Deva-Bela-·-Maestra-Tantrica.png
END:VEVENT
BEGIN:VEVENT
DTSTART;VALUE=DATE:20230216
DTEND;VALUE=DATE:20230303
DTSTAMP:20260423T224532
CREATED:20230125T172352Z
LAST-MODIFIED:20230125T172615Z
UID:10000027-1676505600-1677801599@www.tantrawildspirit.com
SUMMARY:Cuba
DESCRIPTION:
URL:https://www.tantrawildspirit.com/evento/cuba/
LOCATION:Cuba\, Cuba
END:VEVENT
BEGIN:VEVENT
DTSTART;VALUE=DATE:20230211
DTEND;VALUE=DATE:20230216
DTSTAMP:20260423T224532
CREATED:20230125T172312Z
LAST-MODIFIED:20230213T151914Z
UID:10000026-1676073600-1676505599@www.tantrawildspirit.com
SUMMARY:Madrid
DESCRIPTION:
URL:https://www.tantrawildspirit.com/evento/madrid-5/
LOCATION:Madrid\, Madrid\, España
ATTACH;FMTTYPE=image/png:https://www.tantrawildspirit.com/wp-content/uploads/2023/02/Madrid-·-Eventos-·-Deva-Bela-·-Maestra-Tantrica.png
END:VEVENT
BEGIN:VEVENT
DTSTART;VALUE=DATE:20230204
DTEND;VALUE=DATE:20230211
DTSTAMP:20260423T224532
CREATED:20230125T172215Z
LAST-MODIFIED:20240613T100524Z
UID:10000025-1675468800-1676073599@www.tantrawildspirit.com
SUMMARY:Palermo
DESCRIPTION:
URL:https://www.tantrawildspirit.com/evento/palermo-2/
LOCATION:Palermo\, Palermo\, Italia
ATTACH;FMTTYPE=image/jpeg:https://www.tantrawildspirit.com/wp-content/uploads/2023/01/Palermo-·-Eventos-·-Deva-Bela-·-Maestra-Tantrica.jpg
END:VEVENT
BEGIN:VEVENT
DTSTART;VALUE=DATE:20230201
DTEND;VALUE=DATE:20230204
DTSTAMP:20260423T224532
CREATED:20230126T181443Z
LAST-MODIFIED:20230126T181443Z
UID:10000030-1675209600-1675468799@www.tantrawildspirit.com
SUMMARY:Madrid
DESCRIPTION:
URL:https://www.tantrawildspirit.com/evento/madrid-7/
LOCATION:Madrid\, Madrid\, España
ATTACH;FMTTYPE=image/jpeg:https://www.tantrawildspirit.com/wp-content/uploads/2022/12/Madrid-·-Eventos-·-Deva-Bela-·-Maestra-Tantrica-1.jpg
END:VEVENT
BEGIN:VEVENT
DTSTART;VALUE=DATE:20230129
DTEND;VALUE=DATE:20230202
DTSTAMP:20260423T224532
CREATED:20230126T180338Z
LAST-MODIFIED:20230126T181006Z
UID:10000029-1674950400-1675295999@www.tantrawildspirit.com
SUMMARY:Fuerteventura
DESCRIPTION:
URL:https://www.tantrawildspirit.com/evento/fuerteventura/
LOCATION:Fuerteventura\, Fuerteventura\, Las Palmas\, España
ATTACH;FMTTYPE=image/jpeg:https://www.tantrawildspirit.com/wp-content/uploads/2023/01/Fuerteventura-·-Eventos-·-Deva-Bela-·-Maestra-Tantrica.jpg
END:VEVENT
BEGIN:VEVENT
DTSTART;VALUE=DATE:20230125
DTEND;VALUE=DATE:20230129
DTSTAMP:20260423T224533
CREATED:20221205T120813Z
LAST-MODIFIED:20230126T181743Z
UID:10000023-1674604800-1674950399@www.tantrawildspirit.com
SUMMARY:Madrid
DESCRIPTION:
URL:https://www.tantrawildspirit.com/evento/madrid-4/
LOCATION:Madrid\, Madrid\, España
ATTACH;FMTTYPE=image/jpeg:https://www.tantrawildspirit.com/wp-content/uploads/2022/12/Madrid-·-Eventos-·-Deva-Bela-·-Maestra-Tantrica-1.jpg
END:VEVENT
BEGIN:VEVENT
DTSTART;VALUE=DATE:20230115
DTEND;VALUE=DATE:20230121
DTSTAMP:20260423T224533
CREATED:20230119T112758Z
LAST-MODIFIED:20230119T113356Z
UID:10000024-1673740800-1674259199@www.tantrawildspirit.com
SUMMARY:Bologna
DESCRIPTION:Liberi di essere se stessti. \nRespiro contatto tocco. \nTantra counseling
URL:https://www.tantrawildspirit.com/evento/bologna-2/
LOCATION:Bolonia\, Bolonia\, Italia
ATTACH;FMTTYPE=image/png:https://www.tantrawildspirit.com/wp-content/uploads/2023/01/Bologna-·-Eventos-·-Deva-Bela-·-Maestra-Tantrica.png
ORGANIZER;CN="Deva Bela":MAILTO:info@tantrawildspirit.com
END:VEVENT
BEGIN:VEVENT
DTSTART;VALUE=DATE:20230108
DTEND;VALUE=DATE:20230114
DTSTAMP:20260423T224533
CREATED:20221205T120726Z
LAST-MODIFIED:20221205T120738Z
UID:10000022-1673136000-1673654399@www.tantrawildspirit.com
SUMMARY:Cagliari
DESCRIPTION:
URL:https://www.tantrawildspirit.com/evento/cagliari-2/
LOCATION:Cagliari\, Cagliari\, Cerdeña\, Italia
END:VEVENT
BEGIN:VEVENT
DTSTART;VALUE=DATE:20230102
DTEND;VALUE=DATE:20230108
DTSTAMP:20260423T224533
CREATED:20221205T120655Z
LAST-MODIFIED:20221205T120655Z
UID:10000021-1672617600-1673135999@www.tantrawildspirit.com
SUMMARY:Riccione
DESCRIPTION:
URL:https://www.tantrawildspirit.com/evento/riccione-2/
LOCATION:Riccione\, Riccione\, Italia
END:VEVENT
BEGIN:VEVENT
DTSTART;VALUE=DATE:20221227
DTEND;VALUE=DATE:20230102
DTSTAMP:20260423T224533
CREATED:20221205T120606Z
LAST-MODIFIED:20221225T114824Z
UID:10000020-1672099200-1672617599@www.tantrawildspirit.com
SUMMARY:Grosseto
DESCRIPTION:
URL:https://www.tantrawildspirit.com/evento/grosseto/
LOCATION:Grosseto\, Grosseto\, Italia
ATTACH;FMTTYPE=image/jpeg:https://www.tantrawildspirit.com/wp-content/uploads/2022/12/Grosseto-·-Eventos-·-Deva-Bela-·-Maestra-Tantrica.jpg
END:VEVENT
BEGIN:VEVENT
DTSTART;VALUE=DATE:20221227
DTEND;VALUE=DATE:20221229
DTSTAMP:20260423T224533
CREATED:20221205T120350Z
LAST-MODIFIED:20221225T114915Z
UID:10000019-1672099200-1672271999@www.tantrawildspirit.com
SUMMARY:Firenze
DESCRIPTION:
URL:https://www.tantrawildspirit.com/evento/firenze/
LOCATION:Firenze\, Firenze\, Italia
ATTACH;FMTTYPE=image/jpeg:https://www.tantrawildspirit.com/wp-content/uploads/2022/12/Firenze-·-Eventos-·-Deva-Bela-·-Maestra-Tantrica.jpg
END:VEVENT
BEGIN:VEVENT
DTSTART;VALUE=DATE:20221212
DTEND;VALUE=DATE:20221227
DTSTAMP:20260423T224533
CREATED:20221115T112722Z
LAST-MODIFIED:20221205T115332Z
UID:10000017-1670803200-1672099199@www.tantrawildspirit.com
SUMMARY:Madrid
DESCRIPTION:
URL:https://www.tantrawildspirit.com/evento/madrid-3/
LOCATION:Madrid\, Madrid\, España
END:VEVENT
BEGIN:VEVENT
DTSTART;VALUE=DATE:20221203
DTEND;VALUE=DATE:20221213
DTSTAMP:20260423T224533
CREATED:20221115T112502Z
LAST-MODIFIED:20221130T091948Z
UID:10000016-1670025600-1670889599@www.tantrawildspirit.com
SUMMARY:Catania
DESCRIPTION:
URL:https://www.tantrawildspirit.com/evento/catania/
LOCATION:Catania\, Catania\, Italy
END:VEVENT
BEGIN:VEVENT
DTSTART;VALUE=DATE:20221114
DTEND;VALUE=DATE:20221119
DTSTAMP:20260423T224533
CREATED:20221115T112011Z
LAST-MODIFIED:20221130T092130Z
UID:10000015-1668384000-1668815999@www.tantrawildspirit.com
SUMMARY:Bérgamo
DESCRIPTION:
URL:https://www.tantrawildspirit.com/evento/bergamo/
LOCATION:Bérgamo\, Bérgamo\, Italia
ATTACH;FMTTYPE=image/jpeg:https://www.tantrawildspirit.com/wp-content/uploads/2022/11/Bergamo-Eventos-Deva-Bela-·-Maestra-Tantrica.jpg
END:VEVENT
BEGIN:VEVENT
DTSTART;VALUE=DATE:20221114
DTEND;VALUE=DATE:20221119
DTSTAMP:20260423T224533
CREATED:20221115T111148Z
LAST-MODIFIED:20221130T092331Z
UID:10000014-1668384000-1668815999@www.tantrawildspirit.com
SUMMARY:Bologna
DESCRIPTION:
URL:https://www.tantrawildspirit.com/evento/bologna/
LOCATION:Bolonia\, Bolonia\, Italia
ATTACH;FMTTYPE=image/jpeg:https://www.tantrawildspirit.com/wp-content/uploads/2022/11/Bologna-Eventos-Deva-Bela-·-Maestra-Tantrica.jpg
END:VEVENT
BEGIN:VEVENT
DTSTART;VALUE=DATE:20221101
DTEND;VALUE=DATE:20221111
DTSTAMP:20260423T224533
CREATED:20220917T110952Z
LAST-MODIFIED:20221130T092207Z
UID:10000013-1667260800-1668124799@www.tantrawildspirit.com
SUMMARY:Madrid
DESCRIPTION:
URL:https://www.tantrawildspirit.com/evento/madrid-2/
LOCATION:Madrid\, Madrid\, España
END:VEVENT
BEGIN:VEVENT
DTSTART;VALUE=DATE:20221016
DTEND;VALUE=DATE:20221024
DTSTAMP:20260423T224533
CREATED:20220917T110900Z
LAST-MODIFIED:20221130T103143Z
UID:10000012-1665878400-1666569599@www.tantrawildspirit.com
SUMMARY:Ibiza
DESCRIPTION:
URL:https://www.tantrawildspirit.com/evento/ibiza-2/
LOCATION:Ibiza\, Ibiza\, España
END:VEVENT
BEGIN:VEVENT
DTSTART;VALUE=DATE:20221010
DTEND;VALUE=DATE:20221017
DTSTAMP:20260423T224533
CREATED:20220517T072058Z
LAST-MODIFIED:20221130T103242Z
UID:10000002-1665360000-1665964799@www.tantrawildspirit.com
SUMMARY:Palermo
DESCRIPTION:
URL:https://www.tantrawildspirit.com/evento/palermo/
LOCATION:Palermo\, Palermo\, Italia
END:VEVENT
END:VCALENDAR