BEGIN:VCALENDAR
VERSION:2.0
PRODID:-//Deva Bela · Masajes Tantra · Madrid - ECPv6.15.20//NONSGML v1.0//EN
CALSCALE:GREGORIAN
METHOD:PUBLISH
X-ORIGINAL-URL:https://www.tantrawildspirit.com
X-WR-CALDESC:Eventos para Deva Bela · Masajes Tantra · Madrid
REFRESH-INTERVAL;VALUE=DURATION:PT1H
X-Robots-Tag:noindex
X-PUBLISHED-TTL:PT1H
BEGIN:VTIMEZONE
TZID:Europe/Madrid
BEGIN:DAYLIGHT
TZOFFSETFROM:+0100
TZOFFSETTO:+0200
TZNAME:CEST
DTSTART:20230326T010000
END:DAYLIGHT
BEGIN:STANDARD
TZOFFSETFROM:+0200
TZOFFSETTO:+0100
TZNAME:CET
DTSTART:20231029T010000
END:STANDARD
BEGIN:DAYLIGHT
TZOFFSETFROM:+0100
TZOFFSETTO:+0200
TZNAME:CEST
DTSTART:20240331T010000
END:DAYLIGHT
BEGIN:STANDARD
TZOFFSETFROM:+0200
TZOFFSETTO:+0100
TZNAME:CET
DTSTART:20241027T010000
END:STANDARD
BEGIN:DAYLIGHT
TZOFFSETFROM:+0100
TZOFFSETTO:+0200
TZNAME:CEST
DTSTART:20250330T010000
END:DAYLIGHT
BEGIN:STANDARD
TZOFFSETFROM:+0200
TZOFFSETTO:+0100
TZNAME:CET
DTSTART:20251026T010000
END:STANDARD
END:VTIMEZONE
BEGIN:VEVENT
DTSTART;VALUE=DATE:20240610
DTEND;VALUE=DATE:20240617
DTSTAMP:20260423T202556
CREATED:20240507T135730Z
LAST-MODIFIED:20240507T135730Z
UID:10000080-1717977600-1718582399@www.tantrawildspirit.com
SUMMARY:Napoli
DESCRIPTION:
URL:https://www.tantrawildspirit.com/evento/napoli-2/
LOCATION:Napoli\, Napoli\, Italia
ATTACH;FMTTYPE=image/jpeg:https://www.tantrawildspirit.com/wp-content/uploads/2024/05/Napoli-·-Eventos-·-Deva-Bela-·-Maestra-Tantrica.jpg
END:VEVENT
BEGIN:VEVENT
DTSTART;VALUE=DATE:20240616
DTEND;VALUE=DATE:20240621
DTSTAMP:20260423T202556
CREATED:20240613T100650Z
LAST-MODIFIED:20240613T100650Z
UID:10000081-1718496000-1718927999@www.tantrawildspirit.com
SUMMARY:Palermo
DESCRIPTION:
URL:https://www.tantrawildspirit.com/evento/palermo-6/
LOCATION:Palermo\, Palermo\, Italia
ATTACH;FMTTYPE=image/jpeg:https://www.tantrawildspirit.com/wp-content/uploads/2024/06/Palermo-·-Eventos-·-Deva-Bela-·-Maestra-Tantrica.jpg
END:VEVENT
BEGIN:VEVENT
DTSTART;VALUE=DATE:20240621
DTEND;VALUE=DATE:20240624
DTSTAMP:20260423T202556
CREATED:20240613T100942Z
LAST-MODIFIED:20240613T100942Z
UID:10000083-1718928000-1719187199@www.tantrawildspirit.com
SUMMARY:Romagna
DESCRIPTION:
URL:https://www.tantrawildspirit.com/evento/romagna/
LOCATION:Romagna\, Romagna\, Italia
ATTACH;FMTTYPE=image/jpeg:https://www.tantrawildspirit.com/wp-content/uploads/2024/06/Romagna-·-Eventos-·-Deva-Bela-·-Maestra-Tantrica.jpg
END:VEVENT
BEGIN:VEVENT
DTSTART;VALUE=DATE:20240624
DTEND;VALUE=DATE:20240706
DTSTAMP:20260423T202556
CREATED:20240613T101158Z
LAST-MODIFIED:20240613T101212Z
UID:10000084-1719187200-1720223999@www.tantrawildspirit.com
SUMMARY:Sardegna
DESCRIPTION:
URL:https://www.tantrawildspirit.com/evento/sardegna-4/
LOCATION:Sardegna\, Sardegna\, Italia
ATTACH;FMTTYPE=image/jpeg:https://www.tantrawildspirit.com/wp-content/uploads/2024/06/Sardegna-·-Eventos-·-Deva-Bela-·-Maestra-Tantrica.jpg
END:VEVENT
BEGIN:VEVENT
DTSTART;VALUE=DATE:20240628
DTEND;VALUE=DATE:20240701
DTSTAMP:20260423T202556
CREATED:20240628T202024Z
LAST-MODIFIED:20240628T202024Z
UID:10000086-1719532800-1719791999@www.tantrawildspirit.com
SUMMARY:Sardegna
DESCRIPTION:
URL:https://www.tantrawildspirit.com/evento/sardegna-5/
LOCATION:Sardegna\, Sardegna\, Italia
ATTACH;FMTTYPE=image/png:https://www.tantrawildspirit.com/wp-content/uploads/2024/06/Sardegna-·-Eventos-·-Deva-Bela-·-Maestra-Tantrica.png
END:VEVENT
END:VCALENDAR