BEGIN:VCALENDAR
VERSION:2.0
PRODID:-//Deva Bela · Masajes Tantra · Madrid - ECPv6.15.20//NONSGML v1.0//EN
CALSCALE:GREGORIAN
METHOD:PUBLISH
X-WR-CALNAME:Deva Bela · Masajes Tantra · Madrid
X-ORIGINAL-URL:https://www.tantrawildspirit.com
X-WR-CALDESC:Eventos para Deva Bela · Masajes Tantra · Madrid
REFRESH-INTERVAL;VALUE=DURATION:PT1H
X-Robots-Tag:noindex
X-PUBLISHED-TTL:PT1H
BEGIN:VTIMEZONE
TZID:Europe/Madrid
BEGIN:DAYLIGHT
TZOFFSETFROM:+0100
TZOFFSETTO:+0200
TZNAME:CEST
DTSTART:20220327T010000
END:DAYLIGHT
BEGIN:STANDARD
TZOFFSETFROM:+0200
TZOFFSETTO:+0100
TZNAME:CET
DTSTART:20221030T010000
END:STANDARD
BEGIN:DAYLIGHT
TZOFFSETFROM:+0100
TZOFFSETTO:+0200
TZNAME:CEST
DTSTART:20230326T010000
END:DAYLIGHT
BEGIN:STANDARD
TZOFFSETFROM:+0200
TZOFFSETTO:+0100
TZNAME:CET
DTSTART:20231029T010000
END:STANDARD
BEGIN:DAYLIGHT
TZOFFSETFROM:+0100
TZOFFSETTO:+0200
TZNAME:CEST
DTSTART:20240331T010000
END:DAYLIGHT
BEGIN:STANDARD
TZOFFSETFROM:+0200
TZOFFSETTO:+0100
TZNAME:CET
DTSTART:20241027T010000
END:STANDARD
BEGIN:DAYLIGHT
TZOFFSETFROM:+0100
TZOFFSETTO:+0200
TZNAME:CEST
DTSTART:20250330T010000
END:DAYLIGHT
BEGIN:STANDARD
TZOFFSETFROM:+0200
TZOFFSETTO:+0100
TZNAME:CET
DTSTART:20251026T010000
END:STANDARD
END:VTIMEZONE
BEGIN:VEVENT
DTSTART;VALUE=DATE:20240311
DTEND;VALUE=DATE:20240312
DTSTAMP:20260423T192425
CREATED:20240219T220554Z
LAST-MODIFIED:20240613T101053Z
UID:10000071-1710115200-1710201599@www.tantrawildspirit.com
SUMMARY:Sardegna
DESCRIPTION:
URL:https://www.tantrawildspirit.com/evento/sardegna-2/
LOCATION:Sardegna\, Sardegna\, Italia
ATTACH;FMTTYPE=image/jpeg:https://www.tantrawildspirit.com/wp-content/uploads/2024/02/Sardegna-·-Eventos-·-Deva-Bela-·-Maestra-Tantrica.jpg
END:VEVENT
BEGIN:VEVENT
DTSTART;VALUE=DATE:20240304
DTEND;VALUE=DATE:20240308
DTSTAMP:20260423T192425
CREATED:20240219T220343Z
LAST-MODIFIED:20240613T100524Z
UID:10000070-1709510400-1709855999@www.tantrawildspirit.com
SUMMARY:Palermo
DESCRIPTION:
URL:https://www.tantrawildspirit.com/evento/palermo-5/
LOCATION:Palermo\, Palermo\, Italia
ATTACH;FMTTYPE=image/jpeg:https://www.tantrawildspirit.com/wp-content/uploads/2024/02/Palermo-·-Eventos-·-Deva-Bela-·-Maestra-Tantrica.jpg
END:VEVENT
BEGIN:VEVENT
DTSTART;VALUE=DATE:20240224
DTEND;VALUE=DATE:20240304
DTSTAMP:20260423T192425
CREATED:20240219T215834Z
LAST-MODIFIED:20240219T215834Z
UID:10000068-1708732800-1709510399@www.tantrawildspirit.com
SUMMARY:Catania
DESCRIPTION:
URL:https://www.tantrawildspirit.com/evento/catania-4/
LOCATION:Catania\, Catania\, Italy
ATTACH;FMTTYPE=image/jpeg:https://www.tantrawildspirit.com/wp-content/uploads/2024/02/Catania-·-Eventos-·-Deva-Bela-·-Maestra-Tantrica.jpg
END:VEVENT
BEGIN:VEVENT
DTSTART;VALUE=DATE:20240220
DTEND;VALUE=DATE:20240223
DTSTAMP:20260423T192425
CREATED:20240219T215620Z
LAST-MODIFIED:20240219T215620Z
UID:10000067-1708387200-1708646399@www.tantrawildspirit.com
SUMMARY:Bologna
DESCRIPTION:
URL:https://www.tantrawildspirit.com/evento/bologna-5/
LOCATION:Bolonia\, Bolonia\, Italia
ATTACH;FMTTYPE=image/jpeg:https://www.tantrawildspirit.com/wp-content/uploads/2024/02/Bologna-·-Eventos-·-Deva-Bela-·-Maestra-Tantrica.jpg
END:VEVENT
BEGIN:VEVENT
DTSTART;VALUE=DATE:20240104
DTEND;VALUE=DATE:20240121
DTSTAMP:20260423T192425
CREATED:20240108T125406Z
LAST-MODIFIED:20240613T101053Z
UID:10000066-1704326400-1705795199@www.tantrawildspirit.com
SUMMARY:Sardegna
DESCRIPTION:
URL:https://www.tantrawildspirit.com/evento/sardegna/
LOCATION:Sardegna\, Sardegna\, Italia
ATTACH;FMTTYPE=image/jpeg:https://www.tantrawildspirit.com/wp-content/uploads/2024/01/Sardegna-·-Eventos-·-Deva-Bela-·-Maestra-Tantrica.jpg
END:VEVENT
BEGIN:VEVENT
DTSTART;VALUE=DATE:20231114
DTEND;VALUE=DATE:20231125
DTSTAMP:20260423T192425
CREATED:20231108T081838Z
LAST-MODIFIED:20231108T081838Z
UID:10000065-1699920000-1700870399@www.tantrawildspirit.com
SUMMARY:Catania
DESCRIPTION:
URL:https://www.tantrawildspirit.com/evento/catania-3/
LOCATION:Catania\, Catania\, Italy
ATTACH;FMTTYPE=image/jpeg:https://www.tantrawildspirit.com/wp-content/uploads/2023/11/Catania-·-Eventos-·-Deva-Bela-·-Maestra-Tantrica.jpg
END:VEVENT
BEGIN:VEVENT
DTSTART;VALUE=DATE:20231031
DTEND;VALUE=DATE:20231105
DTSTAMP:20260423T192425
CREATED:20231029T165634Z
LAST-MODIFIED:20231029T165634Z
UID:10000064-1698710400-1699142399@www.tantrawildspirit.com
SUMMARY:Riccione
DESCRIPTION:
URL:https://www.tantrawildspirit.com/evento/riccione-7/
LOCATION:Riccione\, Riccione\, Italia
ATTACH;FMTTYPE=image/jpeg:https://www.tantrawildspirit.com/wp-content/uploads/2023/10/Riccione-·-Eventos-·-Deva-Bela-·-Maestra-Tantrica.jpg
END:VEVENT
BEGIN:VEVENT
DTSTART;VALUE=DATE:20231008
DTEND;VALUE=DATE:20231016
DTSTAMP:20260423T192425
CREATED:20231010T194215Z
LAST-MODIFIED:20231010T194215Z
UID:10000063-1696723200-1697414399@www.tantrawildspirit.com
SUMMARY:Bologna
DESCRIPTION:
URL:https://www.tantrawildspirit.com/evento/bologna-3/
LOCATION:Bolonia\, Bolonia\, Italia
ATTACH;FMTTYPE=image/jpeg:https://www.tantrawildspirit.com/wp-content/uploads/2023/10/Bologna-·-Eventos-·-Deva-Bela-·-Maestra-Tantrica.jpg
END:VEVENT
BEGIN:VEVENT
DTSTART;VALUE=DATE:20230928
DTEND;VALUE=DATE:20231002
DTSTAMP:20260423T192425
CREATED:20230926T202706Z
LAST-MODIFIED:20230926T202706Z
UID:10000062-1695859200-1696204799@www.tantrawildspirit.com
SUMMARY:Siniscola
DESCRIPTION:
URL:https://www.tantrawildspirit.com/evento/siniscola/
LOCATION:Siniscola\, Siniscola\, Nuoro\, Italia
ATTACH;FMTTYPE=image/jpeg:https://www.tantrawildspirit.com/wp-content/uploads/2023/09/Siniscola-·-Eventos-·-Deva-Bela-·-Maestra-Tantrica.jpg
END:VEVENT
BEGIN:VEVENT
DTSTART;VALUE=DATE:20230924
DTEND;VALUE=DATE:20230929
DTSTAMP:20260423T192425
CREATED:20230926T202416Z
LAST-MODIFIED:20230926T202416Z
UID:10000061-1695513600-1695945599@www.tantrawildspirit.com
SUMMARY:Cagliari
DESCRIPTION:
URL:https://www.tantrawildspirit.com/evento/cagliari-5/
LOCATION:Cagliari\, Cagliari\, Cerdeña\, Italia
ATTACH;FMTTYPE=image/jpeg:https://www.tantrawildspirit.com/wp-content/uploads/2023/09/Cagliari-·-Eventos-·-Deva-Bela-·-Maestra-Tantrica.jpg
END:VEVENT
BEGIN:VEVENT
DTSTART;VALUE=DATE:20230918
DTEND;VALUE=DATE:20230923
DTSTAMP:20260423T192425
CREATED:20230913T150206Z
LAST-MODIFIED:20230913T150206Z
UID:10000060-1694995200-1695427199@www.tantrawildspirit.com
SUMMARY:Sassari
DESCRIPTION:
URL:https://www.tantrawildspirit.com/evento/sassari/
LOCATION:Sassari\, Sassari\, Sassari\, Italia
ATTACH;FMTTYPE=image/jpeg:https://www.tantrawildspirit.com/wp-content/uploads/2023/09/Sassari-·-Eventos-·-Deva-Bela-·-Maestra-Tantrica.jpg
END:VEVENT
BEGIN:VEVENT
DTSTART;VALUE=DATE:20230910
DTEND;VALUE=DATE:20230916
DTSTAMP:20260423T192425
CREATED:20230905T103330Z
LAST-MODIFIED:20230905T103409Z
UID:10000059-1694304000-1694822399@www.tantrawildspirit.com
SUMMARY:Lecce
DESCRIPTION:
URL:https://www.tantrawildspirit.com/evento/lecce-3/
LOCATION:Lecce\, Lecce\, Italia
ATTACH;FMTTYPE=image/jpeg:https://www.tantrawildspirit.com/wp-content/uploads/2023/09/Lecce-·-Eventos-·-Deva-Bela-·-Maestra-Tantrica.jpg
END:VEVENT
BEGIN:VEVENT
DTSTART;VALUE=DATE:20230819
DTEND;VALUE=DATE:20230831
DTSTAMP:20260423T192425
CREATED:20230818T124158Z
LAST-MODIFIED:20230905T102639Z
UID:10000057-1692403200-1693439999@www.tantrawildspirit.com
SUMMARY:Riccione
DESCRIPTION:
URL:https://www.tantrawildspirit.com/evento/riccione-6/
LOCATION:Riccione\, Riccione\, Italia
ATTACH;FMTTYPE=image/jpeg:https://www.tantrawildspirit.com/wp-content/uploads/2023/08/Riccione-·-Eventos-·-Deva-Bela-·-Maestra-Tantrica-2.jpg
END:VEVENT
BEGIN:VEVENT
DTSTART;VALUE=DATE:20230819
DTEND;VALUE=DATE:20230831
DTSTAMP:20260423T192425
CREATED:20230730T215654Z
LAST-MODIFIED:20230905T102639Z
UID:10000056-1692403200-1693439999@www.tantrawildspirit.com
SUMMARY:Riccione
DESCRIPTION:
URL:https://www.tantrawildspirit.com/evento/riccione-5/
LOCATION:Riccione\, Riccione\, Italia
ATTACH;FMTTYPE=image/jpeg:https://www.tantrawildspirit.com/wp-content/uploads/2023/08/Riccione-·-Eventos-·-Deva-Bela-·-Maestra-Tantrica.jpg
END:VEVENT
BEGIN:VEVENT
DTSTART;VALUE=DATE:20230724
DTEND;VALUE=DATE:20230823
DTSTAMP:20260423T192425
CREATED:20230730T215552Z
LAST-MODIFIED:20230905T102640Z
UID:10000055-1690156800-1692748799@www.tantrawildspirit.com
SUMMARY:Lesbos
DESCRIPTION:
URL:https://www.tantrawildspirit.com/evento/lesbos-3/
LOCATION:Lesbos\, Lesbos\, Grecia
ATTACH;FMTTYPE=image/jpeg:https://www.tantrawildspirit.com/wp-content/uploads/2023/07/Lesbos-·-Eventos-·-Deva-Bela-·-Maestra-Tantrica.jpg
END:VEVENT
BEGIN:VEVENT
DTSTART;VALUE=DATE:20230716
DTEND;VALUE=DATE:20230722
DTSTAMP:20260423T192425
CREATED:20230710T062146Z
LAST-MODIFIED:20230905T102640Z
UID:10000052-1689465600-1689983999@www.tantrawildspirit.com
SUMMARY:Riccione
DESCRIPTION:
URL:https://www.tantrawildspirit.com/evento/riccione-4/
LOCATION:Riccione\, Riccione\, Italia
ATTACH;FMTTYPE=image/jpeg:https://www.tantrawildspirit.com/wp-content/uploads/2023/07/Riccione-·-Eventos-·-Deva-Bela-·-Maestra-Tantrica.jpg
END:VEVENT
BEGIN:VEVENT
DTSTART;VALUE=DATE:20230713
DTEND;VALUE=DATE:20230716
DTSTAMP:20260423T192425
CREATED:20230710T062358Z
LAST-MODIFIED:20230905T102641Z
UID:10000053-1689206400-1689465599@www.tantrawildspirit.com
SUMMARY:Perugia
DESCRIPTION:
URL:https://www.tantrawildspirit.com/evento/perugia/
LOCATION:Riccione\, Riccione\, Italia
ATTACH;FMTTYPE=image/jpeg:https://www.tantrawildspirit.com/wp-content/uploads/2023/07/Perugia-·-Eventos-·-Deva-Bela-·-Maestra-Tantrica.jpg
END:VEVENT
BEGIN:VEVENT
DTSTART;VALUE=DATE:20230707
DTEND;VALUE=DATE:20230713
DTSTAMP:20260423T192425
CREATED:20230713T094919Z
LAST-MODIFIED:20230905T102642Z
UID:10000054-1688688000-1689206399@www.tantrawildspirit.com
SUMMARY:Siena
DESCRIPTION:
URL:https://www.tantrawildspirit.com/evento/siena-2/
LOCATION:Siena\, Siena\, Siena\, Italia
ATTACH;FMTTYPE=image/jpeg:https://www.tantrawildspirit.com/wp-content/uploads/2023/07/Siena-·-Eventos-·-Deva-Bela-·-Maestra-Tantrica.jpg
END:VEVENT
BEGIN:VEVENT
DTSTART;VALUE=DATE:20230704
DTEND;VALUE=DATE:20230708
DTSTAMP:20260423T192425
CREATED:20230629T135808Z
LAST-MODIFIED:20230905T102642Z
UID:10000050-1688428800-1688774399@www.tantrawildspirit.com
SUMMARY:Cagliari
DESCRIPTION:
URL:https://www.tantrawildspirit.com/evento/cagliari-4/
ATTACH;FMTTYPE=image/jpeg:https://www.tantrawildspirit.com/wp-content/uploads/2023/06/Cagliari-·-Eventos-·-Deva-Bela-·-Maestra-Tantrica.jpg
END:VEVENT
BEGIN:VEVENT
DTSTART;VALUE=DATE:20230625
DTEND;VALUE=DATE:20230704
DTSTAMP:20260423T192425
CREATED:20230626T084953Z
LAST-MODIFIED:20230905T102643Z
UID:10000048-1687651200-1688428799@www.tantrawildspirit.com
SUMMARY:Palermo
DESCRIPTION:
URL:https://www.tantrawildspirit.com/evento/palermo-4/
LOCATION:Palermo\, Palermo\, Italia
ATTACH;FMTTYPE=image/jpeg:https://www.tantrawildspirit.com/wp-content/uploads/2023/06/Palermo-·-Eventos-·-Deva-Bela-·-Maestra-Tantrica.jpg
END:VEVENT
BEGIN:VEVENT
DTSTART;VALUE=DATE:20230608
DTEND;VALUE=DATE:20230625
DTSTAMP:20260423T192425
CREATED:20230619T064040Z
LAST-MODIFIED:20230905T102643Z
UID:10000047-1686182400-1687651199@www.tantrawildspirit.com
SUMMARY:Siena
DESCRIPTION:
URL:https://www.tantrawildspirit.com/evento/siena/
LOCATION:Siena\, Siena\, Siena\, Italia
ATTACH;FMTTYPE=image/jpeg:https://www.tantrawildspirit.com/wp-content/uploads/2023/06/Siena-·-Eventos-·-Deva-Bela-·-Maestra-Tantrica.jpg
END:VEVENT
BEGIN:VEVENT
DTSTART;VALUE=DATE:20230529
DTEND;VALUE=DATE:20230604
DTSTAMP:20260423T192425
CREATED:20230519T100440Z
LAST-MODIFIED:20230905T102644Z
UID:10000046-1685318400-1685836799@www.tantrawildspirit.com
SUMMARY:Mazara del Vallo
DESCRIPTION:
URL:https://www.tantrawildspirit.com/evento/mazara-del-vallo/
LOCATION:Mazara del Vallo\, Mazara del Vallo\, Sicilia\, Italia
ATTACH;FMTTYPE=image/jpeg:https://www.tantrawildspirit.com/wp-content/uploads/2023/05/Mazara-del-Vallo-·-Eventos-·-Deva-Bela-·-Maestra-Tantrica.jpg
END:VEVENT
BEGIN:VEVENT
DTSTART;VALUE=DATE:20230518
DTEND;VALUE=DATE:20230527
DTSTAMP:20260423T192425
CREATED:20230519T100245Z
LAST-MODIFIED:20230905T102644Z
UID:10000045-1684368000-1685145599@www.tantrawildspirit.com
SUMMARY:Lesbos
DESCRIPTION:
URL:https://www.tantrawildspirit.com/evento/lesbos-2/
LOCATION:Lesbos\, Lesbos\, Grecia
ATTACH;FMTTYPE=image/jpeg:https://www.tantrawildspirit.com/wp-content/uploads/2023/05/Lesbos-·-Eventos-·-Deva-Bela-·-Maestra-Tantrica.jpg
END:VEVENT
BEGIN:VEVENT
DTSTART;VALUE=DATE:20230508
DTEND;VALUE=DATE:20230515
DTSTAMP:20260423T192425
CREATED:20230507T101059Z
LAST-MODIFIED:20230905T102645Z
UID:10000044-1683504000-1684108799@www.tantrawildspirit.com
SUMMARY:Tenerife
DESCRIPTION:
URL:https://www.tantrawildspirit.com/evento/tenerife/
LOCATION:Tenerife\, Tenerife\, Las Palmas de Gran Canaria\, España
ATTACH;FMTTYPE=image/jpeg:https://www.tantrawildspirit.com/wp-content/uploads/2023/05/Tenerife-·-Eventos-·-Deva-Bela-·-Maestra-Tantrica.jpg
END:VEVENT
BEGIN:VEVENT
DTSTART;VALUE=DATE:20230505
DTEND;VALUE=DATE:20230508
DTSTAMP:20260423T192425
CREATED:20230507T100850Z
LAST-MODIFIED:20230905T102645Z
UID:10000043-1683244800-1683503999@www.tantrawildspirit.com
SUMMARY:Madrid
DESCRIPTION:
URL:https://www.tantrawildspirit.com/evento/madrid-10/
LOCATION:Madrid\, Madrid\, España
ATTACH;FMTTYPE=image/jpeg:https://www.tantrawildspirit.com/wp-content/uploads/2023/05/Madrid-·-Eventos-·-Deva-Bela-·-Maestra-Tantrica.jpg
END:VEVENT
BEGIN:VEVENT
DTSTART;VALUE=DATE:20230502
DTEND;VALUE=DATE:20230505
DTSTAMP:20260423T192425
CREATED:20230502T115350Z
LAST-MODIFIED:20230905T102646Z
UID:10000042-1682985600-1683244799@www.tantrawildspirit.com
SUMMARY:Bologna
DESCRIPTION:
URL:https://www.tantrawildspirit.com/evento/bologna-4/
LOCATION:Bolonia\, Bolonia\, Italia
ATTACH;FMTTYPE=image/jpeg:https://www.tantrawildspirit.com/wp-content/uploads/2023/05/Bologna-·-Eventos-·-Deva-Bela-·-Maestra-Tantrica.jpg
END:VEVENT
BEGIN:VEVENT
DTSTART;VALUE=DATE:20230427
DTEND;VALUE=DATE:20230501
DTSTAMP:20260423T192425
CREATED:20230422T104017Z
LAST-MODIFIED:20230905T102646Z
UID:10000040-1682553600-1682899199@www.tantrawildspirit.com
SUMMARY:Grosseto
DESCRIPTION:
URL:https://www.tantrawildspirit.com/evento/grosseto-2/
LOCATION:Grosseto\, Grosseto\, Italia
ATTACH;FMTTYPE=image/jpeg:https://www.tantrawildspirit.com/wp-content/uploads/2023/04/Grosseto-·-Eventos-·-Deva-Bela-·-Maestra-Tantrica.jpg
END:VEVENT
BEGIN:VEVENT
DTSTART;VALUE=DATE:20230422
DTEND;VALUE=DATE:20230427
DTSTAMP:20260423T192425
CREATED:20230422T054054Z
LAST-MODIFIED:20230905T102647Z
UID:10000039-1682121600-1682553599@www.tantrawildspirit.com
SUMMARY:Riccione
DESCRIPTION:
URL:https://www.tantrawildspirit.com/evento/riccione-3/
LOCATION:Riccione\, Riccione\, Italia
ATTACH;FMTTYPE=image/jpeg:https://www.tantrawildspirit.com/wp-content/uploads/2023/04/Riccione-·-Eventos-·-Deva-Bela-·-Maestra-Tantrica.jpg
END:VEVENT
BEGIN:VEVENT
DTSTART;VALUE=DATE:20230417
DTEND;VALUE=DATE:20230422
DTSTAMP:20260423T192425
CREATED:20230413T110041Z
LAST-MODIFIED:20230905T102647Z
UID:10000038-1681689600-1682121599@www.tantrawildspirit.com
SUMMARY:Alghero
DESCRIPTION:
URL:https://www.tantrawildspirit.com/evento/alghero-2/
LOCATION:Alghero\, Alghero\, Italia
ATTACH;FMTTYPE=image/jpeg:https://www.tantrawildspirit.com/wp-content/uploads/2023/04/Alghero-·-Eventos-·-Deva-Bela-·-Maestra-Tantrica.jpg
END:VEVENT
BEGIN:VEVENT
DTSTART;VALUE=DATE:20230414
DTEND;VALUE=DATE:20230417
DTSTAMP:20260423T192425
CREATED:20230413T105838Z
LAST-MODIFIED:20230905T102648Z
UID:10000037-1681430400-1681689599@www.tantrawildspirit.com
SUMMARY:Madrid
DESCRIPTION:
URL:https://www.tantrawildspirit.com/evento/madrid-9/
LOCATION:Madrid\, Madrid\, España
ATTACH;FMTTYPE=image/jpeg:https://www.tantrawildspirit.com/wp-content/uploads/2023/04/Madrid-·-Eventos-·-Deva-Bela-·-Maestra-Tantrica.jpg
END:VEVENT
END:VCALENDAR